BEGIN:VCALENDAR
VERSION:2.0
PRODID:-//eventon.com NONSGML v1.0//EN
CALSCALE:GREGORIAN
METHOD:PUBLISH
BEGIN:VEVENT
UID:69ebdbc498340
DTSTAMP:20260424T210820Z
DTSTART:20200126
DTEND:20200127
LOCATION:Echternach (L)
SUMMARY:Laafende Keiler M1 + Loftgewier opgeluecht + Skeet historique
DESCRIPTION:Responsables: Baatz-Ademes Georgette 807 180\,  Kaiser Pit 661 
 100 260\nhttps://www.fltas.lu/events/laafende-keiler-m1-loftgewier-opgeluec
 ht-skeet-historique/
URL:https://www.fltas.lu/events/laafende-keiler-m1-loftgewier-opgeluecht-skeet-historique/
END:VEVENT
END:VCALENDAR