BEGIN:VCALENDAR
VERSION:2.0
PRODID:-//eventon.com NONSGML v1.0//EN
CALSCALE:GREGORIAN
METHOD:PUBLISH
BEGIN:VEVENT
UID:69ebdb78a7174
DTSTAMP:20260424T210704Z
DTSTART:20200215
DTEND:20200216
LOCATION:Brouch (L)
SUMMARY:Fuesschéissen Brouch
DESCRIPTION:Fuesschéissen Brouch\nhttps://www.fltas.lu/events/fuesscheisse
 n-brouch/
URL:https://www.fltas.lu/events/fuesscheissen-brouch/
END:VEVENT
END:VCALENDAR