BEGIN:VCALENDAR
VERSION:2.0
PRODID:-//eventon.com NONSGML v1.0//EN
CALSCALE:GREGORIAN
METHOD:PUBLISH
BEGIN:VEVENT
UID:69ebc6588591b
DTSTAMP:20260424T193656Z
DTSTART:20200307
DTEND:20200308
LOCATION:
SUMMARY:Coupe Val des Aulnes
DESCRIPTION:Responsable: Strainchamps Remy 691 568 516\nhttps://www.fltas.l
 u/events/coupe-val-des-aulnes-2/
URL:https://www.fltas.lu/events/coupe-val-des-aulnes-2/
END:VEVENT
END:VCALENDAR