BEGIN:VCALENDAR
VERSION:2.0
PRODID:-//eventon.com NONSGML v1.0//EN
CALSCALE:GREGORIAN
METHOD:PUBLISH
BEGIN:VEVENT
UID:69ebbf3405c99
DTSTAMP:20260424T190628Z
DTSTART:20200314
DTEND:20200315
LOCATION:Kayl (L)
SUMMARY:Singleshot Keel
DESCRIPTION:Responsable: Marbach Marc 621 509 980\nhttps://www.fltas.lu/eve
 nts/singleshot-kal/
URL:https://www.fltas.lu/events/singleshot-kal/
END:VEVENT
END:VCALENDAR