BEGIN:VCALENDAR
VERSION:2.0
PRODID:-//eventon.com NONSGML v1.0//EN
CALSCALE:GREGORIAN
METHOD:PUBLISH
BEGIN:VEVENT
UID:69ebbf160370f
DTSTAMP:20260424T190558Z
DTSTART:20200321
DTEND:20200322
LOCATION:Hesper (L)
SUMMARY:Tir de précision lunettes 200m
DESCRIPTION:Responsable: Schmit Jean &#038; Pol 332 099 / 333 263\nhttps://
 www.fltas.lu/events/tir-de-precision-lunettes-200m/
URL:https://www.fltas.lu/events/tir-de-precision-lunettes-200m/
END:VEVENT
END:VCALENDAR