BEGIN:VCALENDAR
VERSION:2.0
PRODID:-//eventon.com NONSGML v1.0//EN
CALSCALE:GREGORIAN
METHOD:PUBLISH
BEGIN:VEVENT
UID:69ebc0f9b1523
DTSTAMP:20260424T191401Z
DTSTART:20200329
DTEND:20200330
LOCATION:Echternach (L)
SUMMARY:M14 Contest + PP1 + laafende Keiler
DESCRIPTION:Responsable: Baatz-Ademes Georgette 807 180\nhttps://www.fltas.
 lu/events/m14-contest-pistoul-laafende-keiler/
URL:https://www.fltas.lu/events/m14-contest-pistoul-laafende-keiler/
END:VEVENT
END:VCALENDAR