BEGIN:VCALENDAR
VERSION:2.0
PRODID:-//eventon.com NONSGML v1.0//EN
CALSCALE:GREGORIAN
METHOD:PUBLISH
BEGIN:VEVENT
UID:69ebbfdc76d9d
DTSTAMP:20260424T190916Z
DTSTART:20200419
DTEND:20200420
LOCATION:Schifflange (L)
SUMMARY:Hunter 22LR 50m
DESCRIPTION:Responsable: Luciani Fränz\nhttps://www.fltas.lu/events/hunter
 -22lr-50m/
URL:https://www.fltas.lu/events/hunter-22lr-50m/
END:VEVENT
END:VCALENDAR