BEGIN:VCALENDAR
VERSION:2.0
PRODID:-//eventon.com NONSGML v1.0//EN
CALSCALE:GREGORIAN
METHOD:PUBLISH
BEGIN:VEVENT
UID:69ebc0f88bd30
DTSTAMP:20260424T191400Z
DTSTART:20200425
DTEND:20200426
LOCATION:Bloëbierg (L)
SUMMARY:CFE 50m / 1 – Bloebierg
DESCRIPTION:Responsable: Back Christian\nhttps://www.fltas.lu/events/cfe-50
 m-1-bloebierg-2/
URL:https://www.fltas.lu/events/cfe-50m-1-bloebierg-2/
END:VEVENT
END:VCALENDAR