BEGIN:VCALENDAR
VERSION:2.0
PRODID:-//eventon.com NONSGML v1.0//EN
CALSCALE:GREGORIAN
METHOD:PUBLISH
BEGIN:VEVENT
UID:69ebc56e0444b
DTSTAMP:20260424T193302Z
DTSTART:20201018
DTEND:20201019
LOCATION:
SUMMARY:Tir historique SCAL
DESCRIPTION:Responsable: Kaiser Pit 661 100 260\nhttps://www.fltas.lu/event
 s/tir-historique-scal-coupe-memorial/
URL:https://www.fltas.lu/events/tir-historique-scal-coupe-memorial/
END:VEVENT
END:VCALENDAR