BEGIN:VCALENDAR
VERSION:2.0
PRODID:-//eventon.com NONSGML v1.0//EN
CALSCALE:GREGORIAN
METHOD:PUBLISH
BEGIN:VEVENT
UID:69ebd9b64f8d3
DTSTAMP:20260424T205934Z
DTSTART:20200509
DTEND:20200510
LOCATION:Esch (L)
SUMMARY:CFE 100M / 1 – Esch
DESCRIPTION:Responsable: Zeig Guy 621 192 399\nhttps://www.fltas.lu/events/
 cfe-100m-1-esch/
URL:https://www.fltas.lu/events/cfe-100m-1-esch/
END:VEVENT
END:VCALENDAR