BEGIN:VCALENDAR
VERSION:2.0
PRODID:-//eventon.com NONSGML v1.0//EN
CALSCALE:GREGORIAN
METHOD:PUBLISH
BEGIN:VEVENT
UID:69ebf71bb0110
DTSTAMP:20260424T230459Z
DTSTART:20200516
DTEND:20200517
LOCATION:Echternach (L)
SUMMARY:CFE KK 1 Iechternach
DESCRIPTION:Responsable: Kaiser Jacques 329 994 / 621 812 708\nhttps://www.
 fltas.lu/events/cfe-mo-1-iechternach-2/
URL:https://www.fltas.lu/events/cfe-mo-1-iechternach-2/
END:VEVENT
END:VCALENDAR