BEGIN:VCALENDAR
VERSION:2.0
PRODID:-//eventon.com NONSGML v1.0//EN
CALSCALE:GREGORIAN
METHOD:PUBLISH
BEGIN:VEVENT
UID:69ec113b2366b
DTSTAMP:20260425T005627Z
DTSTART:20200516
DTEND:20200517
LOCATION:Schifflange (L)
SUMMARY:Tir Glock – Schifflange
DESCRIPTION:Responsable: Strainchamps Remy 691 568 516\nhttps://www.fltas.l
 u/events/tir-glock-schifflange-2/
URL:https://www.fltas.lu/events/tir-glock-schifflange-2/
END:VEVENT
END:VCALENDAR