BEGIN:VCALENDAR
VERSION:2.0
PRODID:-//eventon.com NONSGML v1.0//EN
CALSCALE:GREGORIAN
METHOD:PUBLISH
BEGIN:VEVENT
UID:69ec27dfc5696
DTSTAMP:20260425T023303Z
DTSTART:20200523
DTEND:20200524
LOCATION:Hesper (L)
SUMMARY:Coupe de Hesperange 200m
DESCRIPTION:Responsable: Schmit Jean &#038; Pol 332 099 / 333 263\nhttps://
 www.fltas.lu/events/coupe-de-hesperange-200m-2/
URL:https://www.fltas.lu/events/coupe-de-hesperange-200m-2/
END:VEVENT
END:VCALENDAR