BEGIN:VCALENDAR
VERSION:2.0
PRODID:-//eventon.com NONSGML v1.0//EN
CALSCALE:GREGORIAN
METHOD:PUBLISH
BEGIN:VEVENT
UID:69eca4b0c4368
DTSTAMP:20260425T112536Z
DTSTART:20200620
DTEND:20200621
LOCATION:Echternach (L)
SUMMARY:CFI Cible/Brocard/Cible Mouv. Iechternach 9h00
DESCRIPTION:Responsable: Schwartz Jang 691 878 665\nhttps://www.fltas.lu/ev
 ents/cfi-cible-brocard-cible-mouv-iechternach-9h00/
URL:https://www.fltas.lu/events/cfi-cible-brocard-cible-mouv-iechternach-9h00/
END:VEVENT
END:VCALENDAR