BEGIN:VCALENDAR
VERSION:2.0
PRODID:-//eventon.com NONSGML v1.0//EN
CALSCALE:GREGORIAN
METHOD:PUBLISH
BEGIN:VEVENT
UID:69ecac460507d
DTSTAMP:20260425T115758Z
DTSTART:20200621
DTEND:20200622
LOCATION:Echternach (L)
SUMMARY:CFE 50m / 2 Iechternach
DESCRIPTION:Responsable: Baatz-Ademes Georgette 807 180\nhttps://www.fltas.
 lu/events/cfe-50m-2-iechternach-2/
URL:https://www.fltas.lu/events/cfe-50m-2-iechternach-2/
END:VEVENT
END:VCALENDAR