BEGIN:VCALENDAR
VERSION:2.0
PRODID:-//eventon.com NONSGML v1.0//EN
CALSCALE:GREGORIAN
METHOD:PUBLISH
BEGIN:VEVENT
UID:69ec994dce851
DTSTAMP:20260425T103701Z
DTSTART:20200627
DTEND:20200628
LOCATION:
SUMMARY:CFE KK 4 Arméi
DESCRIPTION:Responsable: Eiffes Remy 621 178 681\nhttps://www.fltas.lu/even
 ts/cfe-mo-4-armei-2/
URL:https://www.fltas.lu/events/cfe-mo-4-armei-2/
END:VEVENT
END:VCALENDAR