BEGIN:VCALENDAR
VERSION:2.0
PRODID:-//eventon.com NONSGML v1.0//EN
CALSCALE:GREGORIAN
METHOD:PUBLISH
BEGIN:VEVENT
UID:69ec29b5748e7
DTSTAMP:20260425T024053Z
DTSTART:20200718
DTEND:20200719
LOCATION:Schifflange (L)
SUMMARY:CFE 50m / 3 Scheffleng
DESCRIPTION:Responsable: Strainchamps Remy 691 568 516\nhttps://www.fltas.l
 u/events/cfe-50m-3-scheffleng/
URL:https://www.fltas.lu/events/cfe-50m-3-scheffleng/
END:VEVENT
END:VCALENDAR