BEGIN:VCALENDAR
VERSION:2.0
PRODID:-//eventon.com NONSGML v1.0//EN
CALSCALE:GREGORIAN
METHOD:PUBLISH
BEGIN:VEVENT
UID:69ec165651106
DTSTAMP:20260425T011814Z
DTSTART:20200725
DTEND:20200726
LOCATION:Bloëbierg (L)
SUMMARY:CFE KK 6 Bloebierg
DESCRIPTION:Responsable: Tholl Alain 621 192 178\nhttps://www.fltas.lu/even
 ts/cfe-mo-6-bloebierg-2/
URL:https://www.fltas.lu/events/cfe-mo-6-bloebierg-2/
END:VEVENT
END:VCALENDAR