BEGIN:VCALENDAR
VERSION:2.0
PRODID:-//eventon.com NONSGML v1.0//EN
CALSCALE:GREGORIAN
METHOD:PUBLISH
BEGIN:VEVENT
UID:69ec01bdb5497
DTSTAMP:20260424T235021Z
DTSTART:20200725
DTEND:20200726
LOCATION:
SUMMARY:ISR Ingviller
DESCRIPTION:Responsable: Schmit Jean &#038; Pol 332 099 / 333 263\nhttps://
 www.fltas.lu/events/isr-ingviller-2/
URL:https://www.fltas.lu/events/isr-ingviller-2/
END:VEVENT
END:VCALENDAR