BEGIN:VCALENDAR
VERSION:2.0
PRODID:-//eventon.com NONSGML v1.0//EN
CALSCALE:GREGORIAN
METHOD:PUBLISH
BEGIN:VEVENT
UID:69ebed97c2718
DTSTAMP:20260424T222423Z
DTSTART:20200829
DTEND:20200830
LOCATION:Kayl (L)
SUMMARY:CFE KK 7 Keel
DESCRIPTION:Responsable: Fluhé Charles 691 982 319\nhttps://www.fltas.lu/e
 vents/cfe-mo-7-kal/
URL:https://www.fltas.lu/events/cfe-mo-7-kal/
END:VEVENT
END:VCALENDAR