BEGIN:VCALENDAR
VERSION:2.0
PRODID:-//eventon.com NONSGML v1.0//EN
CALSCALE:GREGORIAN
METHOD:PUBLISH
BEGIN:VEVENT
UID:69ebd51f0d5ec
DTSTAMP:20260424T203959Z
DTSTART:20200912
DTEND:20200913
LOCATION:Echternach (L)
SUMMARY:CFE KK 8 Iechternach 2
DESCRIPTION:Responsable: Schwartz Jang 691 878 665\nhttps://www.fltas.lu/ev
 ents/cfe-mo-8-iechternach-2-2/
URL:https://www.fltas.lu/events/cfe-mo-8-iechternach-2-2/
END:VEVENT
END:VCALENDAR