BEGIN:VCALENDAR
VERSION:2.0
PRODID:-//eventon.com NONSGML v1.0//EN
CALSCALE:GREGORIAN
METHOD:PUBLISH
BEGIN:VEVENT
UID:69ebc0bace90e
DTSTAMP:20260424T191258Z
DTSTART:20200912
DTEND:20200913
LOCATION:Kayl (L)
SUMMARY:CFE 100m / 3 Keel
DESCRIPTION:Responsable: Marbach Marc 621 509 980\nhttps://www.fltas.lu/eve
 nts/cfe-100m-3-kal/
URL:https://www.fltas.lu/events/cfe-100m-3-kal/
END:VEVENT
END:VCALENDAR