BEGIN:VCALENDAR
VERSION:2.0
PRODID:-//eventon.com NONSGML v1.0//EN
CALSCALE:GREGORIAN
METHOD:PUBLISH
BEGIN:VEVENT
UID:69ebbfaf35470
DTSTAMP:20260424T190831Z
DTSTART:20200919
DTEND:20200920
LOCATION:Echternach (L)
SUMMARY:CFI / CNI KK Echternach
DESCRIPTION:Responsable: Schwartz Jang 691 878 665\nhttps://www.fltas.lu/ev
 ents/cfi-cni-mo-echternach/
URL:https://www.fltas.lu/events/cfi-cni-mo-echternach/
END:VEVENT
END:VCALENDAR