BEGIN:VCALENDAR
VERSION:2.0
PRODID:-//eventon.com NONSGML v1.0//EN
CALSCALE:GREGORIAN
METHOD:PUBLISH
BEGIN:VEVENT
UID:69ebc0bbce2fe
DTSTAMP:20260424T191259Z
DTSTART:20200919
DTEND:20200920
LOCATION:Schifflange (L)
SUMMARY:Indian Summer Schëffleng
DESCRIPTION:Responsable: Strainchamps Remy 691 568 516\nhttps://www.fltas.l
 u/events/indian-summer-scheffleng-2/
URL:https://www.fltas.lu/events/indian-summer-scheffleng-2/
END:VEVENT
END:VCALENDAR