BEGIN:VCALENDAR
VERSION:2.0
PRODID:-//eventon.com NONSGML v1.0//EN
CALSCALE:GREGORIAN
METHOD:PUBLISH
BEGIN:VEVENT
UID:69ebbf2627d53
DTSTAMP:20260424T190614Z
DTSTART:20200922
DTEND:20200923
LOCATION:Volmerange (F)
SUMMARY:WM Benchrest FLTAS (Volmerange)
DESCRIPTION:Responsable: Luciani Fränz\nhttps://www.fltas.lu/events/wm-ben
 chrest-fltas-volmerange/
URL:https://www.fltas.lu/events/wm-benchrest-fltas-volmerange/
END:VEVENT
END:VCALENDAR