BEGIN:VCALENDAR
VERSION:2.0
PRODID:-//eventon.com NONSGML v1.0//EN
CALSCALE:GREGORIAN
METHOD:PUBLISH
BEGIN:VEVENT
UID:69ebc0bc5d646
DTSTAMP:20260424T191300Z
DTSTART:20200926
DTEND:20200927
LOCATION:Hesper (L)
SUMMARY:CFE 100m / 4 Hesper
DESCRIPTION:Responsable: Schmit Jean &#038; Pol 332 099 / 333 263\nhttps://
 www.fltas.lu/events/cfe-100m-4-hesper/
URL:https://www.fltas.lu/events/cfe-100m-4-hesper/
END:VEVENT
END:VCALENDAR