BEGIN:VCALENDAR
VERSION:2.0
PRODID:-//eventon.com NONSGML v1.0//EN
CALSCALE:GREGORIAN
METHOD:PUBLISH
BEGIN:VEVENT
UID:69ebbf8b365bf
DTSTAMP:20260424T190755Z
DTSTART:20201003
DTEND:20201004
LOCATION:Hesper (L)
SUMMARY:CFE 50m / 4 – Hesper – AAP
DESCRIPTION:Responsable: Kayser Jean-Marie 621 134 809\nhttps://www.fltas.l
 u/events/cfe-50m-4-hesper-aap/
URL:https://www.fltas.lu/events/cfe-50m-4-hesper-aap/
END:VEVENT
END:VCALENDAR