BEGIN:VCALENDAR
VERSION:2.0
PRODID:-//eventon.com NONSGML v1.0//EN
CALSCALE:GREGORIAN
METHOD:PUBLISH
BEGIN:VEVENT
UID:69ebc0bcca77c
DTSTAMP:20260424T191300Z
DTSTART:20201010
DTEND:20201011
LOCATION:Bloëbierg (L)
SUMMARY:CFE 5 / CNI 100m / Final -Bloebierg
DESCRIPTION:Responsable: Steve Lorang 621 266 094\nhttps://www.fltas.lu/eve
 nts/cfe-5-cni-100m-final-bloebierg/
URL:https://www.fltas.lu/events/cfe-5-cni-100m-final-bloebierg/
END:VEVENT
END:VCALENDAR