BEGIN:VCALENDAR
VERSION:2.0
PRODID:-//eventon.com NONSGML v1.0//EN
CALSCALE:GREGORIAN
METHOD:PUBLISH
BEGIN:VEVENT
UID:69ebc7f818a75
DTSTAMP:20260424T194352Z
DTSTART:20201011
DTEND:20201012
LOCATION:Echternach (L)
SUMMARY:CNI / CFI 3x40 KK Iechternach 14h00
DESCRIPTION:Responsable: Schwartz Jang 691 878 665\nhttps://www.fltas.lu/ev
 ents/cni-cfi-3x40-kk-iechternach-14h00/
URL:https://www.fltas.lu/events/cni-cfi-3x40-kk-iechternach-14h00/
END:VEVENT
END:VCALENDAR