BEGIN:VCALENDAR
VERSION:2.0
PRODID:-//eventon.com NONSGML v1.0//EN
CALSCALE:GREGORIAN
METHOD:PUBLISH
BEGIN:VEVENT
UID:69ebdbc4d5c86
DTSTAMP:20260424T210820Z
DTSTART:20201011
DTEND:20201012
LOCATION:Schifflange (L)
SUMMARY:Hunter 22LR 50m - Schëffleng
DESCRIPTION:Responsable: Luciani Fränz\nhttps://www.fltas.lu/events/hunter
 -22lr-50m-scheffleng-3/
URL:https://www.fltas.lu/events/hunter-22lr-50m-scheffleng-3/
END:VEVENT
END:VCALENDAR