BEGIN:VCALENDAR
VERSION:2.0
PRODID:-//eventon.com NONSGML v1.0//EN
CALSCALE:GREGORIAN
METHOD:PUBLISH
BEGIN:VEVENT
UID:69ebc7f8b96d6
DTSTAMP:20260424T194352Z
DTSTART:20201017
DTEND:20201018
LOCATION:Schifflange (L)
SUMMARY:CFE 5 / CNI 50m / Final – Schëffleng
DESCRIPTION:Responsable: Strainchamps Remy 691 568 516\nhttps://www.fltas.l
 u/events/cfe-5-cni-50m-final-scheffleng/
URL:https://www.fltas.lu/events/cfe-5-cni-50m-final-scheffleng/
END:VEVENT
END:VCALENDAR