BEGIN:VCALENDAR
VERSION:2.0
PRODID:-//eventon.com NONSGML v1.0//EN
CALSCALE:GREGORIAN
METHOD:PUBLISH
BEGIN:VEVENT
UID:69ebd6bf09e82
DTSTAMP:20260424T204655Z
DTSTART:20201018
DTEND:20201019
LOCATION:Echternach (L)
SUMMARY:Tir Militaire 1950 - Iechternach
DESCRIPTION:Responsable: Baatz-Ademes Georgette 807 180\nhttps://www.fltas.
 lu/events/tir-militaire-1950-iechternach-2/
URL:https://www.fltas.lu/events/tir-militaire-1950-iechternach-2/
END:VEVENT
END:VCALENDAR