BEGIN:VCALENDAR
VERSION:2.0
PRODID:-//eventon.com NONSGML v1.0//EN
CALSCALE:GREGORIAN
METHOD:PUBLISH
BEGIN:VEVENT
UID:69ebc0f0cd24c
DTSTAMP:20260424T191352Z
DTSTART:20201024
DTEND:20201025
LOCATION:Hesper (L)
SUMMARY:Tir de précision dioptre 100m/200m Hesper
DESCRIPTION:Responsable: Schmit Jean &#038; Pol 332 099 / 333 263\nhttps://
 www.fltas.lu/events/tir-de-precision-dioptre-100m-200m-hesper-2/
URL:https://www.fltas.lu/events/tir-de-precision-dioptre-100m-200m-hesper-2/
END:VEVENT
END:VCALENDAR