BEGIN:VCALENDAR
VERSION:2.0
PRODID:-//eventon.com NONSGML v1.0//EN
CALSCALE:GREGORIAN
METHOD:PUBLISH
BEGIN:VEVENT
UID:69ebc0ba9044c
DTSTAMP:20260424T191258Z
DTSTART:20201025
DTEND:20201026
LOCATION:Echternach (L)
SUMMARY:CFI 3x20 100m – Echternach 14h00
DESCRIPTION:Responsable: Schwartz Jang 691 878 665\nhttps://www.fltas.lu/ev
 ents/cfi-3x20-100m-echternach-14h00/
URL:https://www.fltas.lu/events/cfi-3x20-100m-echternach-14h00/
END:VEVENT
END:VCALENDAR