BEGIN:VCALENDAR
VERSION:2.0
PRODID:-//eventon.com NONSGML v1.0//EN
CALSCALE:GREGORIAN
METHOD:PUBLISH
BEGIN:VEVENT
UID:69ebbf72614ce
DTSTAMP:20260424T190730Z
DTSTART:20201105
DTEND:20201106
LOCATION:
SUMMARY:Tir d'Ouverture aux armes à air comprimé
DESCRIPTION:Tir d'Ouverture aux armes à air comprimé\nhttps://www.fltas.l
 u/events/tir-douverture-aux-armes-a-air-comprime-2/
URL:https://www.fltas.lu/events/tir-douverture-aux-armes-a-air-comprime-2/
END:VEVENT
END:VCALENDAR