BEGIN:VCALENDAR
VERSION:2.0
PRODID:-//eventon.com NONSGML v1.0//EN
CALSCALE:GREGORIAN
METHOD:PUBLISH
BEGIN:VEVENT
UID:69ebd5aa1c03e
DTSTAMP:20260424T204218Z
DTSTART:20201114
DTEND:20201115
LOCATION:Kayl (L)
SUMMARY:Tir de précision - Keel
DESCRIPTION:Responsable: Marbach Marc 621 509 980\nhttps://www.fltas.lu/eve
 nts/tir-de-precision-kal-2/
URL:https://www.fltas.lu/events/tir-de-precision-kal-2/
END:VEVENT
END:VCALENDAR