BEGIN:VCALENDAR
VERSION:2.0
PRODID:-//eventon.com NONSGML v1.0//EN
CALSCALE:GREGORIAN
METHOD:PUBLISH
BEGIN:VEVENT
UID:69ebc0bb55d2a
DTSTAMP:20260424T191259Z
DTSTART:20201122
DTEND:20201123
LOCATION:Echternach (L)
SUMMARY:Single Shot + Laafende Keiler Iechternach
DESCRIPTION:Responsable: Baatz-Ademes Georgette 807 180 / Kaiser Pit 661 10
 0 260\nhttps://www.fltas.lu/events/single-shot-laafende-keiler-iechternach-
 2/
URL:https://www.fltas.lu/events/single-shot-laafende-keiler-iechternach-2/
END:VEVENT
END:VCALENDAR