BEGIN:VCALENDAR
VERSION:2.0
PRODID:-//eventon.com NONSGML v1.0//EN
CALSCALE:GREGORIAN
METHOD:PUBLISH
BEGIN:VEVENT
UID:69ebbf8b76f19
DTSTAMP:20260424T190755Z
DTSTART:20201212
DTEND:20201213
LOCATION:Hesper (L)
SUMMARY:Bataille des Ardennes - Hesper
DESCRIPTION:Responsable: Schmit Jean &#038; Pol 332 099 / 333 263\nhttps://
 www.fltas.lu/events/bataille-des-ardennes-hesper-2/
URL:https://www.fltas.lu/events/bataille-des-ardennes-hesper-2/
END:VEVENT
END:VCALENDAR