BEGIN:VCALENDAR
VERSION:2.0
PRODID:-//eventon.com NONSGML v1.0//EN
CALSCALE:GREGORIAN
METHOD:PUBLISH
BEGIN:VEVENT
UID:69ebc093bde8d
DTSTAMP:20260424T191219Z
DTSTART:20200921
DTEND:20200922
LOCATION:Volmerange (F)
SUMMARY:4th Rimfire World Benchrest Championships
DESCRIPTION:Visit this page for more info.\nhttps://www.fltas.lu/events/4th
 -rimfire-world-benchrest-championships/
URL:https://www.fltas.lu/events/4th-rimfire-world-benchrest-championships/
END:VEVENT
END:VCALENDAR