BEGIN:VCALENDAR
VERSION:2.0
PRODID:-//eventon.com NONSGML v1.0//EN
CALSCALE:GREGORIAN
METHOD:PUBLISH
BEGIN:VEVENT
UID:69ebc078c2e1c
DTSTAMP:20260424T191152Z
DTSTART:20200405
DTEND:20200406
LOCATION:Bloëbierg (L)
SUMMARY:CFI\,  Revolver à percussion
DESCRIPTION:CFI\,  Revolver à percussion\nhttps://www.fltas.lu/events/cfi-
 revolver-a-percussion-2/
URL:https://www.fltas.lu/events/cfi-revolver-a-percussion-2/
END:VEVENT
END:VCALENDAR