BEGIN:VCALENDAR
VERSION:2.0
PRODID:-//eventon.com NONSGML v1.0//EN
CALSCALE:GREGORIAN
METHOD:PUBLISH
BEGIN:VEVENT
UID:69ebc079434a4
DTSTAMP:20260424T191153Z
DTSTART:20200425
DTEND:20200426
LOCATION:Bloëbierg (L)
SUMMARY:82. Ladies Cup
DESCRIPTION:82. Ladies Cup\nhttps://www.fltas.lu/events/82-ladies-cup/
URL:https://www.fltas.lu/events/82-ladies-cup/
END:VEVENT
END:VCALENDAR