BEGIN:VCALENDAR
VERSION:2.0
PRODID:-//eventon.com NONSGML v1.0//EN
CALSCALE:GREGORIAN
METHOD:PUBLISH
BEGIN:VEVENT
UID:69ebc09f9632e
DTSTAMP:20260424T191231Z
DTSTART:20200704
DTEND:20200705
LOCATION:Bloëbierg (L)
SUMMARY:CNI\,  CFI\,  Pist.cal.fac.
DESCRIPTION:CNI\,  CFI\,  Pist.cal.fac.\nhttps://www.fltas.lu/events/cni-cf
 i-pist-cal-fac-2/
URL:https://www.fltas.lu/events/cni-cfi-pist-cal-fac-2/
END:VEVENT
END:VCALENDAR