BEGIN:VCALENDAR
VERSION:2.0
PRODID:-//eventon.com NONSGML v1.0//EN
CALSCALE:GREGORIAN
METHOD:PUBLISH
BEGIN:VEVENT
UID:69ebbf24da8dd
DTSTAMP:20260424T190612Z
DTSTART:20200718
DTEND:20200719
LOCATION:Bloëbierg (L)
SUMMARY:CNI\,  CNE\,  CFI\,  Pist.standard
DESCRIPTION:CNI\,  CNE\,  CFI\,  Pist.standard\nhttps://www.fltas.lu/events
 /cni-cne-cfi-pist-standard-2/
URL:https://www.fltas.lu/events/cni-cne-cfi-pist-standard-2/
END:VEVENT
END:VCALENDAR