BEGIN:VCALENDAR
VERSION:2.0
PRODID:-//eventon.com NONSGML v1.0//EN
CALSCALE:GREGORIAN
METHOD:PUBLISH
BEGIN:VEVENT
UID:69ebbf57888e3
DTSTAMP:20260424T190703Z
DTSTART:20200725
DTEND:20200726
LOCATION:Bloëbierg (L)
SUMMARY:CNI\,  CNE\,  CFI\,  Pist.tir rapide
DESCRIPTION:CNI\,  CNE\,  CFI\,  Pist.tir rapide\nhttps://www.fltas.lu/even
 ts/cni-cne-cfi-pist-tir-rapide-2/
URL:https://www.fltas.lu/events/cni-cne-cfi-pist-tir-rapide-2/
END:VEVENT
END:VCALENDAR