BEGIN:VCALENDAR
VERSION:2.0
PRODID:-//eventon.com NONSGML v1.0//EN
CALSCALE:GREGORIAN
METHOD:PUBLISH
BEGIN:VEVENT
UID:69ebbf8c69208
DTSTAMP:20260424T190756Z
DTSTART:20200926
DTEND:20200927
LOCATION:Kayl (L)
SUMMARY:CNI\,  CNE\,  CFI pi.libre
DESCRIPTION:CNI\,  CNE\,  CFI pi.libre\nhttps://www.fltas.lu/events/cni-cne
 -cfi-pi-libre-2/
URL:https://www.fltas.lu/events/cni-cne-cfi-pi-libre-2/
END:VEVENT
END:VCALENDAR