BEGIN:VCALENDAR
VERSION:2.0
PRODID:-//eventon.com NONSGML v1.0//EN
CALSCALE:GREGORIAN
METHOD:PUBLISH
BEGIN:VEVENT
UID:69ebbf7220091
DTSTAMP:20260424T190730Z
DTSTART:20201004
DTEND:20201005
LOCATION:Bloëbierg (L)
SUMMARY:CNI\,  CNE\,  CFI\,  Feu central
DESCRIPTION:CNI\,  CNE\,  CFI\,  Feu central\nhttps://www.fltas.lu/events/c
 ni-cne-cfi-feu-central/
URL:https://www.fltas.lu/events/cni-cne-cfi-feu-central/
END:VEVENT
END:VCALENDAR