BEGIN:VCALENDAR
VERSION:2.0
PRODID:-//eventon.com NONSGML v1.0//EN
CALSCALE:GREGORIAN
METHOD:PUBLISH
BEGIN:VEVENT
UID:69ebbf8be306f
DTSTAMP:20260424T190755Z
DTSTART:20201010
DTEND:20201011
LOCATION:Bloëbierg (L)
SUMMARY:CFI\,  Pi./Rev. gros cal.
DESCRIPTION:CFI\,  Pi./Rev. gros cal.\nhttps://www.fltas.lu/events/cfi-pi-r
 ev-gros-cal/
URL:https://www.fltas.lu/events/cfi-pi-rev-gros-cal/
END:VEVENT
END:VCALENDAR