BEGIN:VCALENDAR
VERSION:2.0
PRODID:-//eventon.com NONSGML v1.0//EN
CALSCALE:GREGORIAN
METHOD:PUBLISH
BEGIN:VEVENT
UID:69ebc0f05246a
DTSTAMP:20260424T191352Z
DTSTART:20201017
DTEND:20201018
LOCATION:Echternach (L)
SUMMARY:CFI\,  PP1
DESCRIPTION:CFI\,  PP1\nhttps://www.fltas.lu/events/cfi-pp1/
URL:https://www.fltas.lu/events/cfi-pp1/
END:VEVENT
END:VCALENDAR