BEGIN:VCALENDAR
VERSION:2.0
PRODID:-//eventon.com NONSGML v1.0//EN
CALSCALE:GREGORIAN
METHOD:PUBLISH
BEGIN:VEVENT
UID:69ebbfdced09e
DTSTAMP:20260424T190916Z
DTSTART:20200314T080000Z
DTEND:20200314T110000Z
LOCATION:Bloëbierg (L)
SUMMARY:Training 10m (Umeldung néideg\,  cf. Beschréiwung)
DESCRIPTION:W.e.g. mellt iech virdrun beim Marianne Meiers um 621 494 915 o
 der mmeiers@pt.lu un.\nhttps://www.fltas.lu/events/training-10m-2/
URL:https://www.fltas.lu/events/training-10m-2/
END:VEVENT
END:VCALENDAR