BEGIN:VCALENDAR
VERSION:2.0
PRODID:-//eventon.com NONSGML v1.0//EN
CALSCALE:GREGORIAN
METHOD:PUBLISH
BEGIN:VEVENT
UID:69ebbf58c1330
DTSTAMP:20260424T190704Z
DTSTART:20200418T070000Z
DTEND:20200418T100000Z
LOCATION:Bloëbierg (L)
SUMMARY:Training 10m (Umeldung néideg\,  cf. Beschréiwung)
DESCRIPTION:W.e.g. mellt iech virdrun beim Marianne Meiers um 621 494 915 o
 der mmeiers@pt.lu un.\nhttps://www.fltas.lu/events/training-10m-3/
URL:https://www.fltas.lu/events/training-10m-3/
END:VEVENT
END:VCALENDAR